Package: Travel Version: 1.10.0 Command: /Library/Frameworks/R.framework/Resources/bin/R CMD INSTALL Travel StartedAt: 2024-04-16 10:07:01 -0400 (Tue, 16 Apr 2024) EndedAt: 2024-04-16 10:07:43 -0400 (Tue, 16 Apr 2024) EllapsedTime: 42.2 seconds RetCode: 1 Status: ERROR