Package: TransView Version: 1.46.0 Command: /Library/Frameworks/R.framework/Resources/bin/R CMD check --install=check:TransView.install-out.txt --library=/Library/Frameworks/R.framework/Resources/library --no-vignettes --timings TransView_1.46.0.tar.gz StartedAt: 2024-04-18 06:42:16 -0400 (Thu, 18 Apr 2024) EndedAt: 2024-04-18 06:44:30 -0400 (Thu, 18 Apr 2024) EllapsedTime: 133.9 seconds RetCode: 0 Status: WARNINGS CheckDir: TransView.Rcheck Warnings: 1