Package: TnT Version: 1.24.0 Command: /Library/Frameworks/R.framework/Resources/bin/R CMD build --keep-empty-dirs --no-resave-data TnT StartedAt: 2024-04-17 04:06:20 -0400 (Wed, 17 Apr 2024) EndedAt: 2024-04-17 04:06:45 -0400 (Wed, 17 Apr 2024) EllapsedTime: 25.0 seconds RetCode: 0 Status: OK PackageFile: TnT_1.24.0.tar.gz PackageFileSize: 230.3 KiB