Package: TissueEnrich Version: 1.22.0 Command: /Library/Frameworks/R.framework/Resources/bin/R CMD check --install=check:TissueEnrich.install-out.txt --library=/Library/Frameworks/R.framework/Resources/library --no-vignettes --timings TissueEnrich_1.22.0.tar.gz StartedAt: 2024-04-18 06:22:32 -0400 (Thu, 18 Apr 2024) EndedAt: 2024-04-18 06:27:00 -0400 (Thu, 18 Apr 2024) EllapsedTime: 268.1 seconds RetCode: 0 Status: OK CheckDir: TissueEnrich.Rcheck Warnings: 0