Package: TissueEnrich Version: 1.22.0 Command: rm -rf TissueEnrich.buildbin-libdir && mkdir TissueEnrich.buildbin-libdir && /Users/biocbuild/BBS/utils/build-universal.sh TissueEnrich_1.22.0.tar.gz /Library/Frameworks/R.framework/Resources/bin/R TissueEnrich.buildbin-libdir StartedAt: 2024-04-15 10:47:28 -0400 (Mon, 15 Apr 2024) EndedAt: 2024-04-15 10:48:13 -0400 (Mon, 15 Apr 2024) EllapsedTime: 45.2 seconds RetCode: 0 Status: OK PackageFile: TissueEnrich_1.22.0.tgz PackageFileSize: 3.633 MiB