Package: TileDBArray Version: 1.12.0 Command: rm -rf TileDBArray.buildbin-libdir && mkdir TileDBArray.buildbin-libdir && /Users/biocbuild/BBS/utils/build-universal.sh TileDBArray_1.12.0.tar.gz /Library/Frameworks/R.framework/Resources/bin/R TileDBArray.buildbin-libdir StartedAt: 2024-04-15 10:47:13 -0400 (Mon, 15 Apr 2024) EndedAt: 2024-04-15 10:47:57 -0400 (Mon, 15 Apr 2024) EllapsedTime: 44.1 seconds RetCode: 0 Status: OK PackageFile: TileDBArray_1.12.0.tgz PackageFileSize: 732.5 KiB