Package: TargetDecoy Version: 1.8.0 Command: /Library/Frameworks/R.framework/Resources/bin/R CMD build --keep-empty-dirs --no-resave-data TargetDecoy StartedAt: 2024-04-17 03:54:23 -0400 (Wed, 17 Apr 2024) EndedAt: 2024-04-17 03:55:04 -0400 (Wed, 17 Apr 2024) EllapsedTime: 41.9 seconds RetCode: 0 Status: OK PackageFile: TargetDecoy_1.8.0.tar.gz PackageFileSize: 4.172 MiB