Package: TSAR Version: 1.0.0 Command: rm -rf TSAR.buildbin-libdir && mkdir TSAR.buildbin-libdir && /Users/biocbuild/BBS/utils/build-universal.sh TSAR_1.0.0.tar.gz /Library/Frameworks/R.framework/Resources/bin/R TSAR.buildbin-libdir StartedAt: 2024-04-15 10:51:44 -0400 (Mon, 15 Apr 2024) EndedAt: 2024-04-15 10:52:03 -0400 (Mon, 15 Apr 2024) EllapsedTime: 18.4 seconds RetCode: 0 Status: OK PackageFile: TSAR_1.0.0.tgz PackageFileSize: 3.682 MiB