Package: TOAST Version: 1.16.0 Command: rm -rf TOAST.buildbin-libdir && mkdir TOAST.buildbin-libdir && /Users/biocbuild/BBS/utils/build-universal.sh TOAST_1.16.0.tar.gz /Library/Frameworks/R.framework/Resources/bin/R TOAST.buildbin-libdir StartedAt: 2024-04-15 10:47:57 -0400 (Mon, 15 Apr 2024) EndedAt: 2024-04-15 10:48:36 -0400 (Mon, 15 Apr 2024) EllapsedTime: 38.9 seconds RetCode: 0 Status: OK PackageFile: TOAST_1.16.0.tgz PackageFileSize: 3.765 MiB