Package: TNBC.CMS Version: 1.18.0 Command: /Library/Frameworks/R.framework/Resources/bin/R CMD check --install=check:TNBC.CMS.install-out.txt --library=/Library/Frameworks/R.framework/Resources/library --no-vignettes --timings TNBC.CMS_1.18.0.tar.gz StartedAt: 2024-04-18 06:25:05 -0400 (Thu, 18 Apr 2024) EndedAt: 2024-04-18 06:30:07 -0400 (Thu, 18 Apr 2024) EllapsedTime: 302.2 seconds RetCode: 0 Status: OK CheckDir: TNBC.CMS.Rcheck Warnings: 0