Package: TNBC.CMS Version: 1.18.0 Command: /Library/Frameworks/R.framework/Resources/bin/R CMD build --keep-empty-dirs --no-resave-data TNBC.CMS StartedAt: 2024-04-17 04:05:55 -0400 (Wed, 17 Apr 2024) EndedAt: 2024-04-17 04:07:18 -0400 (Wed, 17 Apr 2024) EllapsedTime: 82.3 seconds RetCode: 0 Status: OK PackageFile: TNBC.CMS_1.18.0.tar.gz PackageFileSize: 2.961 MiB