Package: TFEA.ChIP Version: 1.22.0 Command: /Library/Frameworks/R.framework/Resources/bin/R CMD INSTALL TFEA.ChIP StartedAt: 2024-04-16 11:14:49 -0400 (Tue, 16 Apr 2024) EndedAt: 2024-04-16 11:15:38 -0400 (Tue, 16 Apr 2024) EllapsedTime: 49.1 seconds RetCode: 0 Status: OK