Package: TFEA.ChIP Version: 1.22.0 Command: /Library/Frameworks/R.framework/Resources/bin/R CMD check --install=check:TFEA.ChIP.install-out.txt --library=/Library/Frameworks/R.framework/Resources/library --no-vignettes --timings TFEA.ChIP_1.22.0.tar.gz StartedAt: 2024-04-18 06:11:57 -0400 (Thu, 18 Apr 2024) EndedAt: 2024-04-18 06:21:23 -0400 (Thu, 18 Apr 2024) EllapsedTime: 566.8 seconds RetCode: 0 Status: OK CheckDir: TFEA.ChIP.Rcheck Warnings: 0