Package: TEKRABber Version: 1.6.0 Command: /Library/Frameworks/R.framework/Resources/bin/R CMD check --install=check:TEKRABber.install-out.txt --library=/Library/Frameworks/R.framework/Resources/library --no-vignettes --timings TEKRABber_1.6.0.tar.gz StartedAt: 2024-04-18 06:06:53 -0400 (Thu, 18 Apr 2024) EndedAt: 2024-04-18 06:15:57 -0400 (Thu, 18 Apr 2024) EllapsedTime: 543.9 seconds RetCode: 0 Status: OK CheckDir: TEKRABber.Rcheck Warnings: 0