Package: TDbasedUFE Version: 1.2.0 Command: rm -rf TDbasedUFE.buildbin-libdir && mkdir TDbasedUFE.buildbin-libdir && /Users/biocbuild/BBS/utils/build-universal.sh TDbasedUFE_1.2.0.tar.gz /Library/Frameworks/R.framework/Resources/bin/R TDbasedUFE.buildbin-libdir StartedAt: 2024-04-15 10:45:14 -0400 (Mon, 15 Apr 2024) EndedAt: 2024-04-15 10:45:35 -0400 (Mon, 15 Apr 2024) EllapsedTime: 20.6 seconds RetCode: 0 Status: OK PackageFile: TDbasedUFE_1.2.0.tgz PackageFileSize: 1.199 MiB