Package: TCseq Version: 1.26.0 Command: /Library/Frameworks/R.framework/Resources/bin/R CMD check --install=check:TCseq.install-out.txt --library=/Library/Frameworks/R.framework/Resources/library --no-vignettes --timings TCseq_1.26.0.tar.gz StartedAt: 2024-04-18 06:03:45 -0400 (Thu, 18 Apr 2024) EndedAt: 2024-04-18 06:08:17 -0400 (Thu, 18 Apr 2024) EllapsedTime: 271.9 seconds RetCode: 0 Status: WARNINGS CheckDir: TCseq.Rcheck Warnings: 1