Package: StructuralVariantAnnotation Version: 1.18.0 Command: rm -rf StructuralVariantAnnotation.buildbin-libdir && mkdir StructuralVariantAnnotation.buildbin-libdir && /Users/biocbuild/BBS/utils/build-universal.sh StructuralVariantAnnotation_1.18.0.tar.gz /Library/Frameworks/R.framework/Resources/bin/R StructuralVariantAnnotation.buildbin-libdir StartedAt: 2024-04-15 10:41:30 -0400 (Mon, 15 Apr 2024) EndedAt: 2024-04-15 10:42:36 -0400 (Mon, 15 Apr 2024) EllapsedTime: 66.3 seconds RetCode: 0 Status: OK PackageFile: StructuralVariantAnnotation_1.18.0.tgz PackageFileSize: 1.071 MiB