Package: StarBioTrek Version: 1.28.0 Command: /Library/Frameworks/R.framework/Resources/bin/R CMD check --install=check:StarBioTrek.install-out.txt --library=/Library/Frameworks/R.framework/Resources/library --no-vignettes --timings StarBioTrek_1.28.0.tar.gz StartedAt: 2024-04-18 05:27:56 -0400 (Thu, 18 Apr 2024) EndedAt: 2024-04-18 05:30:57 -0400 (Thu, 18 Apr 2024) EllapsedTime: 181.2 seconds RetCode: 0 Status: WARNINGS CheckDir: StarBioTrek.Rcheck Warnings: 2