Package: SpidermiR Version: 1.32.0 Command: /Library/Frameworks/R.framework/Resources/bin/R CMD INSTALL SpidermiR StartedAt: 2024-04-16 10:40:57 -0400 (Tue, 16 Apr 2024) EndedAt: 2024-04-16 10:41:15 -0400 (Tue, 16 Apr 2024) EllapsedTime: 17.7 seconds RetCode: 0 Status: OK