Package: SpidermiR Version: 1.32.0 Command: /Library/Frameworks/R.framework/Resources/bin/R CMD check --install=check:SpidermiR.install-out.txt --library=/Library/Frameworks/R.framework/Resources/library --no-vignettes --timings SpidermiR_1.32.0.tar.gz StartedAt: 2024-04-18 04:59:34 -0400 (Thu, 18 Apr 2024) EndedAt: 2024-04-18 05:01:46 -0400 (Thu, 18 Apr 2024) EllapsedTime: 132.2 seconds RetCode: 1 Status: ERROR CheckDir: SpidermiR.Rcheck Warnings: NA