Package: Spectra Version: 1.12.0 Command: /Library/Frameworks/R.framework/Resources/bin/R CMD build --keep-empty-dirs --no-resave-data Spectra StartedAt: 2024-04-17 03:16:37 -0400 (Wed, 17 Apr 2024) EndedAt: 2024-04-17 03:17:28 -0400 (Wed, 17 Apr 2024) EllapsedTime: 51.5 seconds RetCode: 0 Status: OK PackageFile: Spectra_1.12.0.tar.gz PackageFileSize: 1.181 MiB