Package: SpatialOmicsOverlay Version: 1.2.1 Command: /Library/Frameworks/R.framework/Resources/bin/R CMD INSTALL SpatialOmicsOverlay StartedAt: 2024-04-16 11:50:16 -0400 (Tue, 16 Apr 2024) EndedAt: 2024-04-16 11:50:54 -0400 (Tue, 16 Apr 2024) EllapsedTime: 38.8 seconds RetCode: 0 Status: OK