Package: SparseSignatures Version: 2.12.0 Command: /Library/Frameworks/R.framework/Resources/bin/R CMD check --install=check:SparseSignatures.install-out.txt --library=/Library/Frameworks/R.framework/Resources/library --no-vignettes --timings SparseSignatures_2.12.0.tar.gz StartedAt: 2024-04-18 04:40:05 -0400 (Thu, 18 Apr 2024) EndedAt: 2024-04-18 04:50:21 -0400 (Thu, 18 Apr 2024) EllapsedTime: 615.8 seconds RetCode: 0 Status: OK CheckDir: SparseSignatures.Rcheck Warnings: 0