Package: SparseSignatures Version: 2.12.0 Command: /Library/Frameworks/R.framework/Resources/bin/R CMD build --keep-empty-dirs --no-resave-data SparseSignatures StartedAt: 2024-04-17 03:09:35 -0400 (Wed, 17 Apr 2024) EndedAt: 2024-04-17 03:14:12 -0400 (Wed, 17 Apr 2024) EllapsedTime: 277.5 seconds RetCode: 0 Status: OK PackageFile: SparseSignatures_2.12.0.tar.gz PackageFileSize: 1.461 MiB