Package: SingleCellSignalR Version: 1.14.0 Command: /Library/Frameworks/R.framework/Resources/bin/R CMD INSTALL SingleCellSignalR StartedAt: 2024-04-16 12:28:16 -0400 (Tue, 16 Apr 2024) EndedAt: 2024-04-16 12:29:12 -0400 (Tue, 16 Apr 2024) EllapsedTime: 56.5 seconds RetCode: 0 Status: OK