Package: SingleCellSignalR Version: 1.14.0 Command: /Library/Frameworks/R.framework/Resources/bin/R CMD check --install=check:SingleCellSignalR.install-out.txt --library=/Library/Frameworks/R.framework/Resources/library --no-vignettes --timings SingleCellSignalR_1.14.0.tar.gz StartedAt: 2024-04-18 04:13:12 -0400 (Thu, 18 Apr 2024) EndedAt: 2024-04-18 04:18:16 -0400 (Thu, 18 Apr 2024) EllapsedTime: 303.9 seconds RetCode: 0 Status: WARNINGS CheckDir: SingleCellSignalR.Rcheck Warnings: 2