Package: SingleCellSignalR Version: 1.14.0 Command: /Library/Frameworks/R.framework/Resources/bin/R CMD build --keep-empty-dirs --no-resave-data SingleCellSignalR StartedAt: 2024-04-17 02:55:11 -0400 (Wed, 17 Apr 2024) EndedAt: 2024-04-17 02:56:52 -0400 (Wed, 17 Apr 2024) EllapsedTime: 101.9 seconds RetCode: 0 Status: OK PackageFile: SingleCellSignalR_1.14.0.tar.gz PackageFileSize: 4.41 MiB