Package: SimFFPE Version: 1.14.0 Command: /Library/Frameworks/R.framework/Resources/bin/R CMD INSTALL SimFFPE StartedAt: 2024-04-16 10:48:59 -0400 (Tue, 16 Apr 2024) EndedAt: 2024-04-16 10:49:16 -0400 (Tue, 16 Apr 2024) EllapsedTime: 17.7 seconds RetCode: 0 Status: OK