Package: SimFFPE Version: 1.14.0 Command: rm -rf SimFFPE.buildbin-libdir && mkdir SimFFPE.buildbin-libdir && /Users/biocbuild/BBS/utils/build-universal.sh SimFFPE_1.14.0.tar.gz /Library/Frameworks/R.framework/Resources/bin/R SimFFPE.buildbin-libdir StartedAt: 2024-04-18 11:18:52 -0400 (Thu, 18 Apr 2024) EndedAt: 2024-04-18 11:19:15 -0400 (Thu, 18 Apr 2024) EllapsedTime: 22.5 seconds RetCode: 0 Status: OK PackageFile: SimFFPE_1.14.0.tgz PackageFileSize: 807.2 KiB