Package: SigsPack Version: 1.16.0 Command: /Library/Frameworks/R.framework/Resources/bin/R CMD check --install=check:SigsPack.install-out.txt --library=/Library/Frameworks/R.framework/Resources/library --no-vignettes --timings SigsPack_1.16.0.tar.gz StartedAt: 2024-04-18 04:00:01 -0400 (Thu, 18 Apr 2024) EndedAt: 2024-04-18 04:03:28 -0400 (Thu, 18 Apr 2024) EllapsedTime: 206.7 seconds RetCode: 0 Status: OK CheckDir: SigsPack.Rcheck Warnings: 0