Package: SigsPack Version: 1.16.0 Command: rm -rf SigsPack.buildbin-libdir && mkdir SigsPack.buildbin-libdir && /Users/biocbuild/BBS/utils/build-universal.sh SigsPack_1.16.0.tar.gz /Library/Frameworks/R.framework/Resources/bin/R SigsPack.buildbin-libdir StartedAt: 2024-04-18 11:18:28 -0400 (Thu, 18 Apr 2024) EndedAt: 2024-04-18 11:18:33 -0400 (Thu, 18 Apr 2024) EllapsedTime: 4.6 seconds RetCode: 0 Status: OK PackageFile: SigsPack_1.16.0.tgz PackageFileSize: 539.4 KiB