Package: SeqSQC Version: 1.24.1 Command: /Library/Frameworks/R.framework/Resources/bin/R CMD INSTALL SeqSQC StartedAt: 2024-04-16 13:03:21 -0400 (Tue, 16 Apr 2024) EndedAt: 2024-04-16 13:03:46 -0400 (Tue, 16 Apr 2024) EllapsedTime: 25.2 seconds RetCode: 0 Status: OK