Package: SeqSQC Version: 1.24.1 Command: /Library/Frameworks/R.framework/Resources/bin/R CMD check --install=check:SeqSQC.install-out.txt --library=/Library/Frameworks/R.framework/Resources/library --no-vignettes --timings SeqSQC_1.24.1.tar.gz StartedAt: 2024-04-18 03:39:43 -0400 (Thu, 18 Apr 2024) EndedAt: 2024-04-18 03:43:36 -0400 (Thu, 18 Apr 2024) EllapsedTime: 232.4 seconds RetCode: 0 Status: WARNINGS CheckDir: SeqSQC.Rcheck Warnings: 1