Package: SeqSQC Version: 1.24.1 Command: rm -rf SeqSQC.buildbin-libdir && mkdir SeqSQC.buildbin-libdir && /Users/biocbuild/BBS/utils/build-universal.sh SeqSQC_1.24.1.tar.gz /Library/Frameworks/R.framework/Resources/bin/R SeqSQC.buildbin-libdir StartedAt: 2024-04-18 11:16:12 -0400 (Thu, 18 Apr 2024) EndedAt: 2024-04-18 11:16:46 -0400 (Thu, 18 Apr 2024) EllapsedTime: 34.4 seconds RetCode: 0 Status: OK PackageFile: SeqSQC_1.24.1.tgz PackageFileSize: 4.853 MiB