Package: SeqGate Version: 1.12.0 Command: /Library/Frameworks/R.framework/Resources/bin/R CMD build --keep-empty-dirs --no-resave-data SeqGate StartedAt: 2024-04-17 02:36:20 -0400 (Wed, 17 Apr 2024) EndedAt: 2024-04-17 02:37:26 -0400 (Wed, 17 Apr 2024) EllapsedTime: 66.2 seconds RetCode: 0 Status: OK PackageFile: SeqGate_1.12.0.tar.gz PackageFileSize: 249.4 KiB