Package: SeqArray Version: 1.42.4 Command: /Library/Frameworks/R.framework/Resources/bin/R CMD INSTALL SeqArray StartedAt: 2024-04-16 10:14:45 -0400 (Tue, 16 Apr 2024) EndedAt: 2024-04-16 10:15:26 -0400 (Tue, 16 Apr 2024) EllapsedTime: 41.5 seconds RetCode: 0 Status: OK