Package: SUITOR Version: 1.4.0 Command: /Library/Frameworks/R.framework/Resources/bin/R CMD build --keep-empty-dirs --no-resave-data SUITOR StartedAt: 2024-04-17 03:43:00 -0400 (Wed, 17 Apr 2024) EndedAt: 2024-04-17 03:44:29 -0400 (Wed, 17 Apr 2024) EllapsedTime: 89.3 seconds RetCode: 0 Status: OK PackageFile: SUITOR_1.4.0.tar.gz PackageFileSize: 252.6 KiB