Package: SQLDataFrame Version: 1.16.1 Command: /Library/Frameworks/R.framework/Resources/bin/R CMD build --keep-empty-dirs --no-resave-data SQLDataFrame StartedAt: 2024-04-17 03:30:19 -0400 (Wed, 17 Apr 2024) EndedAt: 2024-04-17 03:31:06 -0400 (Wed, 17 Apr 2024) EllapsedTime: 47.0 seconds RetCode: 0 Status: OK PackageFile: SQLDataFrame_1.16.1.tar.gz PackageFileSize: 638.2 KiB