Package: SPOTlight Version: 1.6.7 Command: /Library/Frameworks/R.framework/Resources/bin/R CMD INSTALL SPOTlight StartedAt: 2024-04-16 11:04:42 -0400 (Tue, 16 Apr 2024) EndedAt: 2024-04-16 11:05:15 -0400 (Tue, 16 Apr 2024) EllapsedTime: 33.8 seconds RetCode: 0 Status: OK