Package: SPOTlight Version: 1.6.7 Command: /Library/Frameworks/R.framework/Resources/bin/R CMD build --keep-empty-dirs --no-resave-data SPOTlight StartedAt: 2024-04-17 03:28:17 -0400 (Wed, 17 Apr 2024) EndedAt: 2024-04-17 03:32:07 -0400 (Wed, 17 Apr 2024) EllapsedTime: 229.4 seconds RetCode: 0 Status: OK PackageFile: SPOTlight_1.6.7.tar.gz PackageFileSize: 4.555 MiB