Package: SPOTlight Version: 1.6.7 Command: rm -rf SPOTlight.buildbin-libdir && mkdir SPOTlight.buildbin-libdir && /Users/biocbuild/BBS/utils/build-universal.sh SPOTlight_1.6.7.tar.gz /Library/Frameworks/R.framework/Resources/bin/R SPOTlight.buildbin-libdir StartedAt: 2024-04-18 11:26:20 -0400 (Thu, 18 Apr 2024) EndedAt: 2024-04-18 11:27:04 -0400 (Thu, 18 Apr 2024) EllapsedTime: 44.2 seconds RetCode: 0 Status: OK PackageFile: SPOTlight_1.6.7.tgz PackageFileSize: 4.234 MiB