Package: SPONGE Version: 1.24.0 Command: /Library/Frameworks/R.framework/Resources/bin/R CMD INSTALL SPONGE StartedAt: 2024-04-16 12:51:43 -0400 (Tue, 16 Apr 2024) EndedAt: 2024-04-16 12:53:41 -0400 (Tue, 16 Apr 2024) EllapsedTime: 118.1 seconds RetCode: 0 Status: OK