Package: SPONGE Version: 1.24.0 Command: rm -rf SPONGE.buildbin-libdir && mkdir SPONGE.buildbin-libdir && /Users/biocbuild/BBS/utils/build-universal.sh SPONGE_1.24.0.tar.gz /Library/Frameworks/R.framework/Resources/bin/R SPONGE.buildbin-libdir StartedAt: 2024-04-18 11:26:12 -0400 (Thu, 18 Apr 2024) EndedAt: 2024-04-18 11:28:28 -0400 (Thu, 18 Apr 2024) EllapsedTime: 136.4 seconds RetCode: 0 Status: OK PackageFile: SPONGE_1.24.0.tgz PackageFileSize: 8.724 MiB