Package: SPIA Version: 2.54.0 Command: /Library/Frameworks/R.framework/Resources/bin/R CMD INSTALL SPIA StartedAt: 2024-04-16 10:11:15 -0400 (Tue, 16 Apr 2024) EndedAt: 2024-04-16 10:11:22 -0400 (Tue, 16 Apr 2024) EllapsedTime: 6.3 seconds RetCode: 0 Status: OK