Package: SNPhood Version: 1.32.0 Command: /Library/Frameworks/R.framework/Resources/bin/R CMD INSTALL SNPhood StartedAt: 2024-04-16 11:10:38 -0400 (Tue, 16 Apr 2024) EndedAt: 2024-04-16 11:12:01 -0400 (Tue, 16 Apr 2024) EllapsedTime: 82.9 seconds RetCode: 0 Status: OK