Package: SNPediaR Version: 1.28.0 Command: /Library/Frameworks/R.framework/Resources/bin/R CMD INSTALL SNPediaR StartedAt: 2024-04-16 10:23:55 -0400 (Tue, 16 Apr 2024) EndedAt: 2024-04-16 10:24:06 -0400 (Tue, 16 Apr 2024) EllapsedTime: 10.8 seconds RetCode: 0 Status: OK