Package: SNPRelate Version: 1.36.1 Command: rm -rf SNPRelate.buildbin-libdir && mkdir SNPRelate.buildbin-libdir && /Users/biocbuild/BBS/utils/build-universal.sh SNPRelate_1.36.1.tar.gz /Library/Frameworks/R.framework/Resources/bin/R SNPRelate.buildbin-libdir StartedAt: 2024-04-18 11:22:17 -0400 (Thu, 18 Apr 2024) EndedAt: 2024-04-18 11:22:55 -0400 (Thu, 18 Apr 2024) EllapsedTime: 37.4 seconds RetCode: 0 Status: OK PackageFile: SNPRelate_1.36.1.tgz PackageFileSize: 3.832 MiB