Package: SNAGEE Version: 1.42.0 Command: /Library/Frameworks/R.framework/Resources/bin/R CMD build --keep-empty-dirs --no-resave-data SNAGEE StartedAt: 2024-04-17 03:01:25 -0400 (Wed, 17 Apr 2024) EndedAt: 2024-04-17 03:02:08 -0400 (Wed, 17 Apr 2024) EllapsedTime: 42.3 seconds RetCode: 0 Status: OK PackageFile: SNAGEE_1.42.0.tar.gz PackageFileSize: 169 KiB