Package: SMITE Version: 1.30.0 Maintainer: Neil Ari Wijetunga MaintainerEmail: nawijet at gmail.com git_url: https://git.bioconductor.org/packages/SMITE git_branch: RELEASE_3_18 git_last_commit: 7e7699a git_last_commit_date: 2023-10-24 10:47:29 -0400 (Tue, 24 Oct 2023)