Package: SMAP Version: 1.66.0 Command: /Library/Frameworks/R.framework/Resources/bin/R CMD INSTALL SMAP StartedAt: 2024-04-16 10:02:22 -0400 (Tue, 16 Apr 2024) EndedAt: 2024-04-16 10:02:28 -0400 (Tue, 16 Apr 2024) EllapsedTime: 6.5 seconds RetCode: 0 Status: OK